{"text_format":"3","workbook":"xlsx","n_sheets":15,"sheets":["Instructions","BG Week","Carb, Insulin Summary","Mon","Tue","Wed","Thu","Fri","Sat","Sun","BG v Basal","BG vs Total","BG vs Carbs","Config","Work Area"],"not_rendered":{"charts":22,"macros":1,"defined_names":11},"read":"whole","date_system":"1900"}

{"sheet":"Instructions","index":0,"n_rows":43,"n_cols":4,"rows_kept":43}
[]
[null,"Description"]
[null,"This Excel work book template is intended to record a week's worth of data for insulin pump use and produce some summaries and charts."]
[null,"It contains 15 worksheets"]
[null,null,"Mon-Sun for each days data"]
[null,null,"BG Week - a summary graph of blood glucose readings for the week"]
[null,null,"Carb Insulin Summary - a table showing a number of summaries of carbohydrate intake, insulin intake and some ratios."]
[null,null,"BG vs Basal, BG vs Total, Bg vs Carbs - three pages containing a graph for each day, charting blood glucose versus"]
[{"$nulls":3},"basal insulin, total insulin and carbohydrate intake"]
[null,null,"Config - where initial values are set"]
[null,null,"Work Area - use internally for generating graphs"]
[null,"Cells in the sheet are colour coded."]
[{"$nulls":3},"System cells - do not change values in these"]
[{"$nulls":3},"Configuration cells - values are normally entered here at the start of each week (or may remain unchanged for many weeks)"]
[{"$nulls":3},"Data cells where daily data is entered."]
[null,"How To Use"]
[null,"Save this template in your normal Excel template location so it can be accessed when you wish to start a new week of data."]
[null,"Open a new file based on this template and save it with your own file name."]
[null,"On the Config work sheet"]
[null,null,"Enter the Monday date of the week you wish to record data for in the cell shown."]
[null,null,"Set the ideal lower and higher blood glucose values by hour in the cells shown. The default values are 4mmols to 10mmols all day"]
[null,null,"Set the basal rates the pump will deliver each hour. Up to three different basal patterns are catered for, Main, Alt 1 and Alt 2"]
[null,null,"Normally main will contain the \"normal\" days rates, and Alt 1 and Alt 2 will contain \"different\" days."]
[{"$nulls":3},"e.g. Main could be for Mon-Fri, Alt 1 for Saturday and Alt 2 for Sunday. In many cases, especially when starting out on pump"]
[{"$nulls":3},"therapy only one daily pattern will be used."]
[null,null,"Use the macros or shortcut keys shown to copy the basal rates to the required days, e.g. If just one rate for all days, use Ctrl+Shift+A"]
[null,null,"If changes are made to planned basals on any particular days, they should be entered into the appropriate cell for the day in question."]
[null,null,"NOTE: If macros are run after changing basal rates in individual days, they may be overwritten by the Config values. For that reason"]
[{"$nulls":3},"only run the macros when creating a new weeks file. Make subsequent changes manually as necessary."]
[null,"Fill in the data cells for each day as the data becomes available. The summaries and charts are dynamically changed as the data is entered."]
[null,"Details of meal content and any additional notes can be entered in the areas shown."]
[null,"Each of the daily sheets and the graph and summary sheets are set up to print out on a single sheet of A4 paper in landscape mode if you need to print them."]
[null,"The graph sheets will be best in colour, but the daily sheets and the Carb, Insulin Summary sheet only use colour for on screen visual enhancement"]
[null,"so if they are printed it may be advisable to select any black and white printing option on the printer being used to save the use of expensive colour ink."]
[]
[null,"The worksheet contains a number of macros to copy the basal rates from the Config to the daily sheets. They can safely be run with no security implications."]
[]
[null,"Use of this Excel workbook should be as  record keeping assistance only."]
[]
[null,"NO DECISIONS SHOULD BE MADE REGARDING ANY INDIVIDUAL'S DIABETES THERAPY WITHOUT CONSULTING THE APPROPRIATE MEDICAL PROFESSIONALS"]
[]
[null,"Terry Jacombs"]
[null,"2005-05-04"]

{"sheet":"BG Week","index":1,"n_rows":0,"n_cols":0,"rows_kept":0}

{"sheet":"Carb, Insulin Summary","index":2,"n_rows":13,"n_cols":10,"rows_kept":13}
[]
[null,"Weekly Carb/Insulin  Summary",{"$nulls":4},{"$f":"Mon!B1","v":"Monday July 14, 2008"}]
[]
[null,null,"Carbs","Basal","Meal","Correction","Total","Basal/Total Ratio","Carb/Meal\nRatio","Carb/Total\nRatio"]
[null,{"$f":"Mon!B1","v":"Monday July 14, 2008"},{"$f":"Mon!B33","v":0},{"$f":"Mon!B34","v":20.45},{"$f":"Mon!F34","v":{"v":0,"d":"0.0"}},{"$f":"Mon!I34","v":{"v":0,"d":"0.0"}},{"$f":"SUM(D5:F5)","v":20.45},{"$f":"IF(D5 = 0, \" \", D5/G5)","v":{"v":1,"d":"100.00%"}},{"$f":"IF(C5 = 0, \" \", C5/E5)","v":" "},{"$f":"IF(C5 = 0, \" \", C5/G5)","v":" "}]
[null,{"$f":"Tue!B1","v":"Tuesday July 15, 2008"},{"$f":"Tue!B33","v":0},{"$f":"Tue!B34","v":20.45},{"$f":"Tue!F34","v":{"v":0,"d":"0.0"}},{"$f":"Tue!I34","v":{"v":0,"d":"0.0"}},{"$f":"SUM(D6:F6)","v":20.45},{"$f":"IF(D6 = 0, \" \", D6/G6)","v":{"v":1,"d":"100.00%"}},{"$f":"IF(C6 = 0, \" \", C6/E6)","v":" "},{"$f":"IF(C6 = 0, \" \", C6/G6)","v":" "}]
[null,{"$f":"Wed!B1","v":"Wednesday July 16, 2008"},{"$f":"Wed!B33","v":0},{"$f":"Wed!B34","v":20.45},{"$f":"Wed!F34","v":{"v":0,"d":"0.0"}},{"$f":"Wed!I34","v":{"v":0,"d":"0.0"}},20.45,{"v":1,"d":"100.00%"}," "," "]
[null,{"$f":"Thu!B1","v":"Thursday July 17, 2008"},{"$f":"Thu!B33","v":0},{"$f":"Thu!B34","v":20.45},{"$f":"Thu!F34","v":{"v":0,"d":"0.0"}},{"$f":"Thu!I34","v":{"v":0,"d":"0.0"}},20.45,{"v":1,"d":"100.00%"}," "," "]
[null,{"$f":"Fri!B1","v":"Friday July 18, 2008"},{"$f":"Fri!B33","v":0},{"$f":"Fri!B34","v":20.45},{"$f":"Fri!F34","v":{"v":0,"d":"0.0"}},{"$f":"Fri!I34","v":{"v":0,"d":"0.0"}},20.45,{"v":1,"d":"100.00%"}," "," "]
[null,{"$f":"Sat!B1","v":"Saturday July 19, 2008"},{"$f":"Sat!B33","v":0},{"$f":"Sat!B34","v":20.45},{"$f":"Sat!F34","v":{"v":0,"d":"0.0"}},{"$f":"Sat!I34","v":{"v":0,"d":"0.0"}},20.45,{"v":1,"d":"100.00%"}," "," "]
[null,{"$f":"Sun!B1","v":"Sunday July 20, 2008"},{"$f":"Sun!B33","v":0},{"$f":"Sun!B34","v":20.45},{"$f":"Sun!F34","v":{"v":0,"d":"0.0"}},{"$f":"Sun!I34","v":{"v":0,"d":"0.0"}},20.45,{"v":1,"d":"100.00%"}," "," "]
[]
[null,"NOTES:"]

{"sheet":"Mon","index":3,"n_rows":34,"n_cols":25,"rows_kept":34}
["Date",{"$f":"TEXT([0]!Current_Monday +0, \"dddd mmmm dd, yyyy\")","v":"Monday July 14, 2008"}]
[null,"12\nAM","1\nAM","2\nAM","3\nAM","4\nAM","5\nAM","6\nAM","7\nAM","8\nAM","9\nAM","10\nAM","11\nAM","12\nPM","1\nPM","2\nPM","3\nPM","4\nPM","5\nPM","6\nPM","7\nPM","8\nPM","9\nPM","10\nPM","11\nPM"]
["Actual Time"]
["Blood Glucose"]
["Carbohydrates"]
["Meal Bolus"]
["Correction Bolus"]
["Basal Rate",0.85,0.85,0.85,0.85,0.85,0.85,1.05,1.05,1.05,{"v":0.8,"d":"0.80"},{"v":0.8,"d":"0.80"},{"v":0.8,"d":"0.80"},{"v":0.8,"d":"0.80"},{"v":0.8,"d":"0.80"},{"v":0.8,"d":"0.80"},{"v":0.8,"d":"0.80"},{"v":0.9,"d":"0.90"},{"v":0.9,"d":"0.90"},{"v":0.9,"d":"0.90"},{"v":0.9,"d":"0.90"},{"v":0.9,"d":"0.90"},{"v":0.7,"d":"0.70"},{"v":0.7,"d":"0.70"},{"v":0.7,"d":"0.70"}]
["Exercise"]
["Ketones"]
["Set Change"]
["Breakfast",{"$nulls":12},"Notes - Exercise, stress, illness, hypo & treatment, pump alarms"]
[{"$nulls":13},"Comments on particular meals/foods etc"]
[]
[]
["Snack"]
[]
[]
["Lunch"]
[]
[]
[]
["Snack"]
[]
[]
["Dinner"]
[]
[]
[]
["Supper"]
[]
[]
["Carbohydrates",{"$f":"SUM(B5:Y5)","v":0}]
["Total Basal",{"$f":"SUM(B8:Y8)","v":20.45},null,"Meal Bolus",null,{"$f":"SUM(B6:Y6)","v":{"v":0,"d":"0.0"}},"Corrections",null,{"$f":"SUM(B7:Y7)","v":{"v":0,"d":"0.0"}},{"$nulls":4},"Total Daily Dose",null,null,{"$f":"B34+F34+I34","v":20.45},{"$nulls":6},{"$f":"TEXT([0]!Current_Monday +0, \"dddd mmmm dd, yyyy\")","v":"Monday July 14, 2008"}]

{"sheet":"Tue","index":4,"n_rows":34,"n_cols":25,"rows_kept":34}
["Date",{"$f":"TEXT([0]!Current_Monday +1, \"dddd mmmm dd, yyyy\")","v":"Tuesday July 15, 2008"}]
[null,"12\nAM","1\nAM","2\nAM","3\nAM","4\nAM","5\nAM","6\nAM","7\nAM","8\nAM","9\nAM","10\nAM","11\nAM","12\nPM","1\nPM","2\nPM","3\nPM","4\nPM","5\nPM","6\nPM","7\nPM","8\nPM","9\nPM","10\nPM","11\nPM"]
["Actual Time"]
["Blood Glucose"]
["Carbohydrates"]
["Meal Bolus"]
["Correction Bolus"]
["Basal Rate",0.85,0.85,0.85,0.85,0.85,0.85,1.05,1.05,1.05,{"v":0.8,"d":"0.80"},{"v":0.8,"d":"0.80"},{"v":0.8,"d":"0.80"},{"v":0.8,"d":"0.80"},{"v":0.8,"d":"0.80"},{"v":0.8,"d":"0.80"},{"v":0.8,"d":"0.80"},{"v":0.9,"d":"0.90"},{"v":0.9,"d":"0.90"},{"v":0.9,"d":"0.90"},{"v":0.9,"d":"0.90"},{"v":0.9,"d":"0.90"},{"v":0.7,"d":"0.70"},{"v":0.7,"d":"0.70"},{"v":0.7,"d":"0.70"}]
["Exercise"]
["Ketones"]
["Set Change"]
["Breakfast",{"$nulls":12},"Notes - Exercise, stress, illness, hypo & treatment, pump alarms"]
[{"$nulls":13},"Comments on particular meals/foods etc"]
[]
[]
["Snack"]
[]
[]
["Lunch"]
[]
[]
[]
["Snack"]
[]
[]
["Dinner"]
[]
[]
[]
["Supper"]
[]
[]
["Carbohydrates",{"$f":"SUM(B5:Y5)","v":0}]
["Total Basal",{"$f":"SUM(B8:Y8)","v":20.45},null,"Meal Bolus",null,{"$f":"SUM(B6:Y6)","v":{"v":0,"d":"0.0"}},"Corrections",null,{"$f":"SUM(B7:Y7)","v":{"v":0,"d":"0.0"}},{"$nulls":4},"Total Daily Dose",null,null,{"$f":"B34+F34+I34","v":20.45},{"$nulls":6},{"$f":"TEXT([0]!Current_Monday +1, \"dddd mmmm dd, yyyy\")","v":"Tuesday July 15, 2008"}]

{"sheet":"Wed","index":5,"n_rows":34,"n_cols":25,"rows_kept":34}
["Date",{"$f":"TEXT([0]!Current_Monday +2, \"dddd mmmm dd, yyyy\")","v":"Wednesday July 16, 2008"}]
[null,"12\nAM","1\nAM","2\nAM","3\nAM","4\nAM","5\nAM","6\nAM","7\nAM","8\nAM","9\nAM","10\nAM","11\nAM","12\nPM","1\nPM","2\nPM","3\nPM","4\nPM","5\nPM","6\nPM","7\nPM","8\nPM","9\nPM","10\nPM","11\nPM"]
["Actual Time"]
["Blood Glucose"]
["Carbohydrates"]
["Meal Bolus"]
["Correction Bolus"]
["Basal Rate",0.85,0.85,0.85,0.85,0.85,0.85,1.05,1.05,1.05,{"v":0.8,"d":"0.80"},{"v":0.8,"d":"0.80"},{"v":0.8,"d":"0.80"},{"v":0.8,"d":"0.80"},{"v":0.8,"d":"0.80"},{"v":0.8,"d":"0.80"},{"v":0.8,"d":"0.80"},{"v":0.9,"d":"0.90"},{"v":0.9,"d":"0.90"},{"v":0.9,"d":"0.90"},{"v":0.9,"d":"0.90"},{"v":0.9,"d":"0.90"},{"v":0.7,"d":"0.70"},{"v":0.7,"d":"0.70"},{"v":0.7,"d":"0.70"}]
["Exercise"]
["Ketones"]
["Set Change"]
["Breakfast",{"$nulls":12},"Notes - Exercise, stress, illness, hypo & treatment, pump alarms"]
[{"$nulls":13},"Comments on particular meals/foods etc"]
[]
[]
["Snack"]
[]
[]
["Lunch"]
[]
[]
[]
["Snack"]
[]
[]
["Dinner"]
[]
[]
[]
["Supper"]
[]
[]
["Carbohydrates",{"$f":"SUM(B5:Y5)","v":0}]
["Total Basal",{"$f":"SUM(B8:Y8)","v":20.45},null,"Meal Bolus",null,{"$f":"SUM(B6:Y6)","v":{"v":0,"d":"0.0"}},"Corrections",null,{"$f":"SUM(B7:Y7)","v":{"v":0,"d":"0.0"}},{"$nulls":4},"Total Daily Dose",null,null,{"$f":"B34+F34+I34","v":20.45},{"$nulls":6},{"$f":"TEXT([0]!Current_Monday +2, \"dddd mmmm dd, yyyy\")","v":"Wednesday July 16, 2008"}]

{"sheet":"Thu","index":6,"n_rows":34,"n_cols":25,"rows_kept":34}
["Date",{"$f":"TEXT([0]!Current_Monday +3, \"dddd mmmm dd, yyyy\")","v":"Thursday July 17, 2008"}]
[null,"12\nAM","1\nAM","2\nAM","3\nAM","4\nAM","5\nAM","6\nAM","7\nAM","8\nAM","9\nAM","10\nAM","11\nAM","12\nPM","1\nPM","2\nPM","3\nPM","4\nPM","5\nPM","6\nPM","7\nPM","8\nPM","9\nPM","10\nPM","11\nPM"]
["Actual Time"]
["Blood Glucose"]
["Carbohydrates"]
["Meal Bolus"]
["Correction Bolus"]
["Basal Rate",0.85,0.85,0.85,0.85,0.85,0.85,1.05,1.05,1.05,{"v":0.8,"d":"0.80"},{"v":0.8,"d":"0.80"},{"v":0.8,"d":"0.80"},{"v":0.8,"d":"0.80"},{"v":0.8,"d":"0.80"},{"v":0.8,"d":"0.80"},{"v":0.8,"d":"0.80"},{"v":0.9,"d":"0.90"},{"v":0.9,"d":"0.90"},{"v":0.9,"d":"0.90"},{"v":0.9,"d":"0.90"},{"v":0.9,"d":"0.90"},{"v":0.7,"d":"0.70"},{"v":0.7,"d":"0.70"},{"v":0.7,"d":"0.70"}]
["Exercise"]
["Ketones"]
["Set Change"]
["Breakfast",{"$nulls":12},"Notes - Exercise, stress, illness, hypo & treatment, pump alarms"]
[{"$nulls":13},"Comments on particular meals/foods etc"]
[]
[]
["Snack"]
[]
[]
["Lunch"]
[]
[]
[]
["Snack"]
[]
[]
["Dinner"]
[]
[]
[]
["Supper"]
[]
[]
["Carbohydrates",{"$f":"SUM(B5:Y5)","v":0}]
["Total Basal",{"$f":"SUM(B8:Y8)","v":20.45},null,"Meal Bolus",null,{"$f":"SUM(B6:Y6)","v":{"v":0,"d":"0.0"}},"Corrections",null,{"$f":"SUM(B7:Y7)","v":{"v":0,"d":"0.0"}},{"$nulls":4},"Total Daily Dose",null,null,{"$f":"B34+F34+I34","v":20.45},{"$nulls":6},{"$f":"TEXT([0]!Current_Monday +3, \"dddd mmmm dd, yyyy\")","v":"Thursday July 17, 2008"}]

{"sheet":"Fri","index":7,"n_rows":34,"n_cols":25,"rows_kept":34}
["Date",{"$f":"TEXT([0]!Current_Monday +4, \"dddd mmmm dd, yyyy\")","v":"Friday July 18, 2008"}]
[null,"12\nAM","1\nAM","2\nAM","3\nAM","4\nAM","5\nAM","6\nAM","7\nAM","8\nAM","9\nAM","10\nAM","11\nAM","12\nPM","1\nPM","2\nPM","3\nPM","4\nPM","5\nPM","6\nPM","7\nPM","8\nPM","9\nPM","10\nPM","11\nPM"]
["Actual Time"]
["Blood Glucose"]
["Carbohydrates"]
["Meal Bolus"]
["Correction Bolus"]
["Basal Rate",0.85,0.85,0.85,0.85,0.85,0.85,1.05,1.05,1.05,{"v":0.8,"d":"0.80"},{"v":0.8,"d":"0.80"},{"v":0.8,"d":"0.80"},{"v":0.8,"d":"0.80"},{"v":0.8,"d":"0.80"},{"v":0.8,"d":"0.80"},{"v":0.8,"d":"0.80"},{"v":0.9,"d":"0.90"},{"v":0.9,"d":"0.90"},{"v":0.9,"d":"0.90"},{"v":0.9,"d":"0.90"},{"v":0.9,"d":"0.90"},{"v":0.7,"d":"0.70"},{"v":0.7,"d":"0.70"},{"v":0.7,"d":"0.70"}]
["Exercise"]
["Ketones"]
["Set Change"]
["Breakfast",{"$nulls":12},"Notes - Exercise, stress, illness, hypo & treatment, pump alarms"]
[{"$nulls":13},"Comments on particular meals/foods etc"]
[]
[]
["Snack"]
[]
[]
["Lunch"]
[]
[]
[]
["Snack"]
[]
[]
["Dinner"]
[]
[]
[]
["Supper"]
[]
[]
["Carbohydrates",{"$f":"SUM(B5:Y5)","v":0}]
["Total Basal",{"$f":"SUM(B8:Y8)","v":20.45},null,"Meal Bolus",null,{"$f":"SUM(B6:Y6)","v":{"v":0,"d":"0.0"}},"Corrections",null,{"$f":"SUM(B7:Y7)","v":{"v":0,"d":"0.0"}},{"$nulls":4},"Total Daily Dose",null,null,{"$f":"B34+F34+I34","v":20.45},{"$nulls":6},{"$f":"TEXT([0]!Current_Monday +4, \"dddd mmmm dd, yyyy\")","v":"Friday July 18, 2008"}]

{"sheet":"Sat","index":8,"n_rows":34,"n_cols":25,"rows_kept":34}
["Date",{"$f":"TEXT([0]!Current_Monday +5, \"dddd mmmm dd, yyyy\")","v":"Saturday July 19, 2008"}]
[null,"12\nAM","1\nAM","2\nAM","3\nAM","4\nAM","5\nAM","6\nAM","7\nAM","8\nAM","9\nAM","10\nAM","11\nAM","12\nPM","1\nPM","2\nPM","3\nPM","4\nPM","5\nPM","6\nPM","7\nPM","8\nPM","9\nPM","10\nPM","11\nPM"]
["Actual Time"]
["Blood Glucose"]
["Carbohydrates"]
["Meal Bolus"]
["Correction Bolus"]
["Basal Rate",0.85,0.85,0.85,0.85,0.85,0.85,1.05,1.05,1.05,{"v":0.8,"d":"0.80"},{"v":0.8,"d":"0.80"},{"v":0.8,"d":"0.80"},{"v":0.8,"d":"0.80"},{"v":0.8,"d":"0.80"},{"v":0.8,"d":"0.80"},{"v":0.8,"d":"0.80"},{"v":0.9,"d":"0.90"},{"v":0.9,"d":"0.90"},{"v":0.9,"d":"0.90"},{"v":0.9,"d":"0.90"},{"v":0.9,"d":"0.90"},{"v":0.7,"d":"0.70"},{"v":0.7,"d":"0.70"},{"v":0.7,"d":"0.70"}]
["Exercise"]
["Ketones"]
["Set Change"]
["Breakfast",{"$nulls":12},"Notes - Exercise, stress, illness, hypo & treatment, pump alarms"]
[{"$nulls":13},"Comments on particular meals/foods etc"]
[]
[]
["Snack"]
[]
[]
["Lunch"]
[]
[]
[]
["Snack"]
[]
[]
["Dinner"]
[]
[]
[]
["Supper"]
[]
[]
["Carbohydrates",{"$f":"SUM(B5:Y5)","v":0}]
["Total Basal",{"$f":"SUM(B8:Y8)","v":20.45},null,"Meal Bolus",null,{"$f":"SUM(B6:Y6)","v":{"v":0,"d":"0.0"}},"Corrections",null,{"$f":"SUM(B7:Y7)","v":{"v":0,"d":"0.0"}},{"$nulls":4},"Total Daily Dose",null,null,{"$f":"B34+F34+I34","v":20.45},{"$nulls":6},{"$f":"TEXT([0]!Current_Monday +5, \"dddd mmmm dd, yyyy\")","v":"Saturday July 19, 2008"}]

{"sheet":"Sun","index":9,"n_rows":34,"n_cols":25,"rows_kept":34}
["Date",{"$f":"TEXT([0]!Current_Monday +6, \"dddd mmmm dd, yyyy\")","v":"Sunday July 20, 2008"}]
[null,"12\nAM","1\nAM","2\nAM","3\nAM","4\nAM","5\nAM","6\nAM","7\nAM","8\nAM","9\nAM","10\nAM","11\nAM","12\nPM","1\nPM","2\nPM","3\nPM","4\nPM","5\nPM","6\nPM","7\nPM","8\nPM","9\nPM","10\nPM","11\nPM"]
["Actual Time"]
["Blood Glucose"]
["Carbohydrates"]
["Meal Bolus"]
["Correction Bolus"]
["Basal Rate",0.85,0.85,0.85,0.85,0.85,0.85,1.05,1.05,1.05,{"v":0.8,"d":"0.80"},{"v":0.8,"d":"0.80"},{"v":0.8,"d":"0.80"},{"v":0.8,"d":"0.80"},{"v":0.8,"d":"0.80"},{"v":0.8,"d":"0.80"},{"v":0.8,"d":"0.80"},{"v":0.9,"d":"0.90"},{"v":0.9,"d":"0.90"},{"v":0.9,"d":"0.90"},{"v":0.9,"d":"0.90"},{"v":0.9,"d":"0.90"},{"v":0.7,"d":"0.70"},{"v":0.7,"d":"0.70"},{"v":0.7,"d":"0.70"}]
["Exercise"]
["Ketones"]
["Set Change"]
["Breakfast",{"$nulls":12},"Notes - Exercise, stress, illness, hypo & treatment, pump alarms"]
[{"$nulls":13},"Comments on particular meals/foods etc"]
[]
[]
["Snack"]
[]
[]
["Lunch"]
[]
[]
[]
["Snack"]
[]
[]
["Dinner"]
[]
[]
[]
["Supper"]
[]
[]
["Carbohydrates",{"$f":"SUM(B5:Y5)","v":0}]
["Total Basal",{"$f":"SUM(B8:Y8)","v":20.45},null,"Meal Bolus",null,{"$f":"SUM(B6:Y6)","v":{"v":0,"d":"0.0"}},"Corrections",null,{"$f":"SUM(B7:Y7)","v":{"v":0,"d":"0.0"}},{"$nulls":4},"Total Daily Dose",null,null,{"$f":"B34+F34+I34","v":20.45},{"$nulls":6},{"$f":"TEXT([0]!Current_Monday +6, \"dddd mmmm dd, yyyy\")","v":"Sunday July 20, 2008"}]

{"sheet":"BG v Basal","index":10,"n_rows":1,"n_cols":1,"rows_kept":1}
["Blood Glucose vs Basal Insulin"]

{"sheet":"BG vs Total","index":11,"n_rows":1,"n_cols":1,"rows_kept":1}
["Blood Glucose vs Total Insulin"]

{"sheet":"BG vs Carbs","index":12,"n_rows":1,"n_cols":1,"rows_kept":1}
["Blood Glucose vs Carbohydrates"]

{"sheet":"Config","index":13,"n_rows":30,"n_cols":28,"rows_kept":30}
[]
[{"$nulls":3},"Basals","12\nAM","1\nAM","2\nAM","3\nAM","4\nAM","5\nAM","6\nAM","7\nAM","8\nAM","9\nAM","10\nAM","11\nAM","12\nPM","1\nPM","2\nPM","3\nPM","4\nPM","5\nPM","6\nPM","7\nPM","8\nPM","9\nPM","10\nPM","11\nPM"]
["Time","BG Lower","BG Higher","Main",0.85,0.85,0.85,0.85,0.85,0.85,1.05,1.05,1.05,{"v":0.8,"d":"0.80"},{"v":0.8,"d":"0.80"},{"v":0.8,"d":"0.80"},{"v":0.8,"d":"0.80"},{"v":0.8,"d":"0.80"},{"v":0.8,"d":"0.80"},{"v":0.8,"d":"0.80"},{"v":0.9,"d":"0.90"},{"v":0.9,"d":"0.90"},{"v":0.9,"d":"0.90"},{"v":0.9,"d":"0.90"},{"v":0.9,"d":"0.90"},{"v":0.7,"d":"0.70"},{"v":0.7,"d":"0.70"},{"v":0.7,"d":"0.70"}]
["00:00:00",4,10,"Alt 1",{"v":0,"d":"0.00"},{"v":0,"d":"0.00"},{"v":0,"d":"0.00"},{"v":0,"d":"0.00"},{"v":0,"d":"0.00"},{"v":0,"d":"0.00"},{"v":0,"d":"0.00"},{"v":0,"d":"0.00"},{"v":0,"d":"0.00"},{"v":0,"d":"0.00"},{"v":0,"d":"0.00"},{"v":0,"d":"0.00"},{"v":0,"d":"0.00"},{"v":0,"d":"0.00"},{"v":0,"d":"0.00"},{"v":0,"d":"0.00"},{"v":0,"d":"0.00"},{"v":0,"d":"0.00"},{"v":0,"d":"0.00"},{"v":0,"d":"0.00"},{"v":0,"d":"0.00"},{"v":0,"d":"0.00"},{"v":0,"d":"0.00"},{"v":0,"d":"0.00"}]
["01:00:00",4,10,"Alt 2",{"v":0,"d":"0.00"},{"v":0,"d":"0.00"},{"v":0,"d":"0.00"},{"v":0,"d":"0.00"},{"v":0,"d":"0.00"},{"v":0,"d":"0.00"},{"v":0,"d":"0.00"},{"v":0,"d":"0.00"},{"v":0,"d":"0.00"},{"v":0,"d":"0.00"},{"v":0,"d":"0.00"},{"v":0,"d":"0.00"},{"v":0,"d":"0.00"},{"v":0,"d":"0.00"},{"v":0,"d":"0.00"},{"v":0,"d":"0.00"},{"v":0,"d":"0.00"},{"v":0,"d":"0.00"},{"v":0,"d":"0.00"},{"v":0,"d":"0.00"},{"v":0,"d":"0.00"},{"v":0,"d":"0.00"},{"v":0,"d":"0.00"},{"v":0,"d":"0.00"}]
["02:00:00",4,10]
["03:00:00",4,10,null,"Copy basal rates to the daily work sheets by running the following macros or pressing the keys shown"]
["04:00:00",4,10]
["05:00:00",4,10,null,"Copy performed",{"$nulls":9},"Macro name",{"$nulls":6},"Short Cut"]
["06:00:00",4,10,null,"Copy the main basals to all days",{"$nulls":9},"Copy_Main_Basal_To_All_Days",{"$nulls":6},"Ctr+Shift+A"]
["07:00:00",4,10,null,"Copy the main basals to Monday to Friday",{"$nulls":9},"Copy_Main_Basal_To_Mon_Fri",{"$nulls":6},"Ctrl+Shift+M"]
["08:00:00",4,10]
["09:00:00",4,10,null,"Copy Alt 1 Basals to Monday",{"$nulls":9},"Copy_Alt1_To_Mon",{"$nulls":6},"Ctrl+Shift+N"]
["10:00:00",4,10,null,"Copy Alt 1 Basals to Tuesday",{"$nulls":9},"Copy_Alt1_To_Tue",{"$nulls":6},"Ctrl+Shift+U"]
["11:00:00",4,10,null,"Copy Alt 1 Basals to Wednesday",{"$nulls":9},"Copy_Alt1_To_Wed",{"$nulls":6},"Ctrl+Shift+W"]
["12:00:00",4,10,null,"Copy Alt 1 Basals to Thursday",{"$nulls":9},"Copy_Alt1_To_Thu",{"$nulls":6},"Ctrl+Shift+H"]
["13:00:00",4,10,null,"Copy Alt 1 Basals to Friday",{"$nulls":9},"Copy_Alt1_To_Fri",{"$nulls":6},"Ctrl+Shift+F"]
["14:00:00",4,10,null,"Copy Alt 1 Basals to Saturday",{"$nulls":9},"Copy_Alt1_To_Sat",{"$nulls":6},"Ctrl+Shift+T"]
["15:00:00",4,10,null,"Copy Alt 1 Basals to Sunday",{"$nulls":9},"Copy_Alt1_To_Sun",{"$nulls":6},"Ctrl+Shift+Y"]
["16:00:00",4,10]
["17:00:00",4,10,null,"Copy Alt 2 Basals to Monday",{"$nulls":9},"Copy_Alt2_To_Mon",{"$nulls":6},"Ctrl+Shift+B"]
["18:00:00",4,10,null,"Copy Alt 2 Basals to Tuesday",{"$nulls":9},"Copy_Alt2_To_Tue",{"$nulls":6},"Ctrl+Shift+C"]
["19:00:00",4,10,null,"Copy Alt 2 Basals to Wednesday",{"$nulls":9},"Copy_Alt2_To_Wed",{"$nulls":6},"Ctrl+Shift+D"]
["20:00:00",4,10,null,"Copy Alt 2 Basals to Thursday",{"$nulls":9},"Copy_Alt2_To_Thu",{"$nulls":6},"Ctrl+Shift+E"]
["21:00:00",4,10,null,"Copy Alt 2 Basals to Friday",{"$nulls":9},"Copy_Alt2_To_Fri",{"$nulls":6},"Ctrl+Shift+G"]
["22:00:00",4,10,null,"Copy Alt 2 Basals to Saturday",{"$nulls":9},"Copy_Alt2_To_Sat",{"$nulls":6},"Ctrl+Shift+J"]
["23:00:00",4,10,null,"Copy Alt 2 Basals to Sunday",{"$nulls":9},"Copy_Alt2_To_Sun",{"$nulls":6},"Ctrl+Shift+K"]
[]
[null,"Current Start Monday"]
[null,"2008-07-14"]

{"sheet":"Work Area","index":14,"n_rows":11,"n_cols":25,"rows_kept":11}
[null,"Total Insulin dose"]
[null,"12\nAM","1\nAM","2\nAM","3\nAM","4\nAM","5\nAM","6\nAM","7\nAM","8\nAM","9\nAM","10\nAM","11\nAM","12\nPM","1\nPM","2\nPM","3\nPM","4\nPM","5\nPM","6\nPM","7\nPM","8\nPM","9\nPM","10\nPM","11\nPM"]
["Monday",{"$f":"Mon!B6+Mon!B7+Mon!B8","v":0.85},{"$f":"Mon!C6+Mon!C7+Mon!C8","v":0.85},{"$f":"Mon!D6+Mon!D7+Mon!D8","v":0.85},{"$f":"Mon!E6+Mon!E7+Mon!E8","v":0.85},{"$f":"Mon!F6+Mon!F7+Mon!F8","v":0.85},{"$f":"Mon!G6+Mon!G7+Mon!G8","v":0.85},{"$f":"Mon!H6+Mon!H7+Mon!H8","v":1.05},{"$f":"Mon!I6+Mon!I7+Mon!I8","v":1.05},{"$f":"Mon!J6+Mon!J7+Mon!J8","v":1.05},{"$f":"Mon!K6+Mon!K7+Mon!K8","v":{"v":0.8,"d":"0.80"}},{"$f":"Mon!L6+Mon!L7+Mon!L8","v":{"v":0.8,"d":"0.80"}},{"$f":"Mon!M6+Mon!M7+Mon!M8","v":{"v":0.8,"d":"0.80"}},{"$f":"Mon!N6+Mon!N7+Mon!N8","v":{"v":0.8,"d":"0.80"}},{"$f":"Mon!O6+Mon!O7+Mon!O8","v":{"v":0.8,"d":"0.80"}},{"$f":"Mon!P6+Mon!P7+Mon!P8","v":{"v":0.8,"d":"0.80"}},{"$f":"Mon!Q6+Mon!Q7+Mon!Q8","v":{"v":0.8,"d":"0.80"}},{"$f":"Mon!R6+Mon!R7+Mon!R8","v":{"v":0.9,"d":"0.90"}},{"$f":"Mon!S6+Mon!S7+Mon!S8","v":{"v":0.9,"d":"0.90"}},{"$f":"Mon!T6+Mon!T7+Mon!T8","v":{"v":0.9,"d":"0.90"}},{"$f":"Mon!U6+Mon!U7+Mon!U8","v":{"v":0.9,"d":"0.90"}},{"$f":"Mon!V6+Mon!V7+Mon!V8","v":{"v":0.9,"d":"0.90"}},{"$f":"Mon!W6+Mon!W7+Mon!W8","v":{"v":0.7,"d":"0.70"}},{"$f":"Mon!X6+Mon!X7+Mon!X8","v":{"v":0.7,"d":"0.70"}},{"$f":"Mon!Y6+Mon!Y7+Mon!Y8","v":{"v":0.7,"d":"0.70"}}]
["Tuesday",{"$f":"Tue!B6+Tue!B7+Tue!B8","v":0.85},{"$f":"Tue!C6+Tue!C7+Tue!C8","v":0.85},{"$f":"Tue!D6+Tue!D7+Tue!D8","v":0.85},{"$f":"Tue!E6+Tue!E7+Tue!E8","v":0.85},{"$f":"Tue!F6+Tue!F7+Tue!F8","v":0.85},{"$f":"Tue!G6+Tue!G7+Tue!G8","v":0.85},{"$f":"Tue!H6+Tue!H7+Tue!H8","v":1.05},{"$f":"Tue!I6+Tue!I7+Tue!I8","v":1.05},{"$f":"Tue!J6+Tue!J7+Tue!J8","v":1.05},{"$f":"Tue!K6+Tue!K7+Tue!K8","v":{"v":0.8,"d":"0.80"}},{"$f":"Tue!L6+Tue!L7+Tue!L8","v":{"v":0.8,"d":"0.80"}},{"$f":"Tue!M6+Tue!M7+Tue!M8","v":{"v":0.8,"d":"0.80"}},{"$f":"Tue!N6+Tue!N7+Tue!N8","v":{"v":0.8,"d":"0.80"}},{"$f":"Tue!O6+Tue!O7+Tue!O8","v":{"v":0.8,"d":"0.80"}},{"$f":"Tue!P6+Tue!P7+Tue!P8","v":{"v":0.8,"d":"0.80"}},{"$f":"Tue!Q6+Tue!Q7+Tue!Q8","v":{"v":0.8,"d":"0.80"}},{"$f":"Tue!R6+Tue!R7+Tue!R8","v":{"v":0.9,"d":"0.90"}},{"$f":"Tue!S6+Tue!S7+Tue!S8","v":{"v":0.9,"d":"0.90"}},{"$f":"Tue!T6+Tue!T7+Tue!T8","v":{"v":0.9,"d":"0.90"}},{"$f":"Tue!U6+Tue!U7+Tue!U8","v":{"v":0.9,"d":"0.90"}},{"$f":"Tue!V6+Tue!V7+Tue!V8","v":{"v":0.9,"d":"0.90"}},{"$f":"Tue!W6+Tue!W7+Tue!W8","v":{"v":0.7,"d":"0.70"}},{"$f":"Tue!X6+Tue!X7+Tue!X8","v":{"v":0.7,"d":"0.70"}},{"$f":"Tue!Y6+Tue!Y7+Tue!Y8","v":{"v":0.7,"d":"0.70"}}]
["Wednesday",{"$f":"Wed!B6+Wed!B7+Wed!B8","v":0.85},{"$f":"Wed!C6+Wed!C7+Wed!C8","v":0.85},{"$f":"Wed!D6+Wed!D7+Wed!D8","v":0.85},{"$f":"Wed!E6+Wed!E7+Wed!E8","v":0.85},{"$f":"Wed!F6+Wed!F7+Wed!F8","v":0.85},{"$f":"Wed!G6+Wed!G7+Wed!G8","v":0.85},{"$f":"Wed!H6+Wed!H7+Wed!H8","v":1.05},{"$f":"Wed!I6+Wed!I7+Wed!I8","v":1.05},{"$f":"Wed!J6+Wed!J7+Wed!J8","v":1.05},{"$f":"Wed!K6+Wed!K7+Wed!K8","v":{"v":0.8,"d":"0.80"}},{"$f":"Wed!L6+Wed!L7+Wed!L8","v":{"v":0.8,"d":"0.80"}},{"$f":"Wed!M6+Wed!M7+Wed!M8","v":{"v":0.8,"d":"0.80"}},{"$f":"Wed!N6+Wed!N7+Wed!N8","v":{"v":0.8,"d":"0.80"}},{"$f":"Wed!O6+Wed!O7+Wed!O8","v":{"v":0.8,"d":"0.80"}},{"$f":"Wed!P6+Wed!P7+Wed!P8","v":{"v":0.8,"d":"0.80"}},{"$f":"Wed!Q6+Wed!Q7+Wed!Q8","v":{"v":0.8,"d":"0.80"}},{"$f":"Wed!R6+Wed!R7+Wed!R8","v":{"v":0.9,"d":"0.90"}},{"$f":"Wed!S6+Wed!S7+Wed!S8","v":{"v":0.9,"d":"0.90"}},{"$f":"Wed!T6+Wed!T7+Wed!T8","v":{"v":0.9,"d":"0.90"}},{"$f":"Wed!U6+Wed!U7+Wed!U8","v":{"v":0.9,"d":"0.90"}},{"$f":"Wed!V6+Wed!V7+Wed!V8","v":{"v":0.9,"d":"0.90"}},{"$f":"Wed!W6+Wed!W7+Wed!W8","v":{"v":0.7,"d":"0.70"}},{"$f":"Wed!X6+Wed!X7+Wed!X8","v":{"v":0.7,"d":"0.70"}},{"$f":"Wed!Y6+Wed!Y7+Wed!Y8","v":{"v":0.7,"d":"0.70"}}]
["Thursday",{"$f":"Thu!B6+Thu!B7+Thu!B8","v":0.85},{"$f":"Thu!C6+Thu!C7+Thu!C8","v":0.85},{"$f":"Thu!D6+Thu!D7+Thu!D8","v":0.85},{"$f":"Thu!E6+Thu!E7+Thu!E8","v":0.85},{"$f":"Thu!F6+Thu!F7+Thu!F8","v":0.85},{"$f":"Thu!G6+Thu!G7+Thu!G8","v":0.85},{"$f":"Thu!H6+Thu!H7+Thu!H8","v":1.05},{"$f":"Thu!I6+Thu!I7+Thu!I8","v":1.05},{"$f":"Thu!J6+Thu!J7+Thu!J8","v":1.05},{"$f":"Thu!K6+Thu!K7+Thu!K8","v":{"v":0.8,"d":"0.80"}},{"$f":"Thu!L6+Thu!L7+Thu!L8","v":{"v":0.8,"d":"0.80"}},{"$f":"Thu!M6+Thu!M7+Thu!M8","v":{"v":0.8,"d":"0.80"}},{"$f":"Thu!N6+Thu!N7+Thu!N8","v":{"v":0.8,"d":"0.80"}},{"$f":"Thu!O6+Thu!O7+Thu!O8","v":{"v":0.8,"d":"0.80"}},{"$f":"Thu!P6+Thu!P7+Thu!P8","v":{"v":0.8,"d":"0.80"}},{"$f":"Thu!Q6+Thu!Q7+Thu!Q8","v":{"v":0.8,"d":"0.80"}},{"$f":"Thu!R6+Thu!R7+Thu!R8","v":{"v":0.9,"d":"0.90"}},{"$f":"Thu!S6+Thu!S7+Thu!S8","v":{"v":0.9,"d":"0.90"}},{"$f":"Thu!T6+Thu!T7+Thu!T8","v":{"v":0.9,"d":"0.90"}},{"$f":"Thu!U6+Thu!U7+Thu!U8","v":{"v":0.9,"d":"0.90"}},{"$f":"Thu!V6+Thu!V7+Thu!V8","v":{"v":0.9,"d":"0.90"}},{"$f":"Thu!W6+Thu!W7+Thu!W8","v":{"v":0.7,"d":"0.70"}},{"$f":"Thu!X6+Thu!X7+Thu!X8","v":{"v":0.7,"d":"0.70"}},{"$f":"Thu!Y6+Thu!Y7+Thu!Y8","v":{"v":0.7,"d":"0.70"}}]
["Friday",{"$f":"Fri!B6+Fri!B7+Fri!B8","v":0.85},{"$f":"Fri!C6+Fri!C7+Fri!C8","v":0.85},{"$f":"Fri!D6+Fri!D7+Fri!D8","v":0.85},{"$f":"Fri!E6+Fri!E7+Fri!E8","v":0.85},{"$f":"Fri!F6+Fri!F7+Fri!F8","v":0.85},{"$f":"Fri!G6+Fri!G7+Fri!G8","v":0.85},{"$f":"Fri!H6+Fri!H7+Fri!H8","v":1.05},{"$f":"Fri!I6+Fri!I7+Fri!I8","v":1.05},{"$f":"Fri!J6+Fri!J7+Fri!J8","v":1.05},{"$f":"Fri!K6+Fri!K7+Fri!K8","v":{"v":0.8,"d":"0.80"}},{"$f":"Fri!L6+Fri!L7+Fri!L8","v":{"v":0.8,"d":"0.80"}},{"$f":"Fri!M6+Fri!M7+Fri!M8","v":{"v":0.8,"d":"0.80"}},{"$f":"Fri!N6+Fri!N7+Fri!N8","v":{"v":0.8,"d":"0.80"}},{"$f":"Fri!O6+Fri!O7+Fri!O8","v":{"v":0.8,"d":"0.80"}},{"$f":"Fri!P6+Fri!P7+Fri!P8","v":{"v":0.8,"d":"0.80"}},{"$f":"Fri!Q6+Fri!Q7+Fri!Q8","v":{"v":0.8,"d":"0.80"}},{"$f":"Fri!R6+Fri!R7+Fri!R8","v":{"v":0.9,"d":"0.90"}},{"$f":"Fri!S6+Fri!S7+Fri!S8","v":{"v":0.9,"d":"0.90"}},{"$f":"Fri!T6+Fri!T7+Fri!T8","v":{"v":0.9,"d":"0.90"}},{"$f":"Fri!U6+Fri!U7+Fri!U8","v":{"v":0.9,"d":"0.90"}},{"$f":"Fri!V6+Fri!V7+Fri!V8","v":{"v":0.9,"d":"0.90"}},{"$f":"Fri!W6+Fri!W7+Fri!W8","v":{"v":0.7,"d":"0.70"}},{"$f":"Fri!X6+Fri!X7+Fri!X8","v":{"v":0.7,"d":"0.70"}},{"$f":"Fri!Y6+Fri!Y7+Fri!Y8","v":{"v":0.7,"d":"0.70"}}]
["Saturday",{"$f":"Sat!B6+Sat!B7+Sat!B8","v":0.85},{"$f":"Sat!C6+Sat!C7+Sat!C8","v":0.85},{"$f":"Sat!D6+Sat!D7+Sat!D8","v":0.85},{"$f":"Sat!E6+Sat!E7+Sat!E8","v":0.85},{"$f":"Sat!F6+Sat!F7+Sat!F8","v":0.85},{"$f":"Sat!G6+Sat!G7+Sat!G8","v":0.85},{"$f":"Sat!H6+Sat!H7+Sat!H8","v":1.05},{"$f":"Sat!I6+Sat!I7+Sat!I8","v":1.05},{"$f":"Sat!J6+Sat!J7+Sat!J8","v":1.05},{"$f":"Sat!K6+Sat!K7+Sat!K8","v":{"v":0.8,"d":"0.80"}},{"$f":"Sat!L6+Sat!L7+Sat!L8","v":{"v":0.8,"d":"0.80"}},{"$f":"Sat!M6+Sat!M7+Sat!M8","v":{"v":0.8,"d":"0.80"}},{"$f":"Sat!N6+Sat!N7+Sat!N8","v":{"v":0.8,"d":"0.80"}},{"$f":"Sat!O6+Sat!O7+Sat!O8","v":{"v":0.8,"d":"0.80"}},{"$f":"Sat!P6+Sat!P7+Sat!P8","v":{"v":0.8,"d":"0.80"}},{"$f":"Sat!Q6+Sat!Q7+Sat!Q8","v":{"v":0.8,"d":"0.80"}},{"$f":"Sat!R6+Sat!R7+Sat!R8","v":{"v":0.9,"d":"0.90"}},{"$f":"Sat!S6+Sat!S7+Sat!S8","v":{"v":0.9,"d":"0.90"}},{"$f":"Sat!T6+Sat!T7+Sat!T8","v":{"v":0.9,"d":"0.90"}},{"$f":"Sat!U6+Sat!U7+Sat!U8","v":{"v":0.9,"d":"0.90"}},{"$f":"Sat!V6+Sat!V7+Sat!V8","v":{"v":0.9,"d":"0.90"}},{"$f":"Sat!W6+Sat!W7+Sat!W8","v":{"v":0.7,"d":"0.70"}},{"$f":"Sat!X6+Sat!X7+Sat!X8","v":{"v":0.7,"d":"0.70"}},{"$f":"Sat!Y6+Sat!Y7+Sat!Y8","v":{"v":0.7,"d":"0.70"}}]
["Sunday",{"$f":"Sun!B6+Sun!B7+Sun!B8","v":0.85},{"$f":"Sun!C6+Sun!C7+Sun!C8","v":0.85},{"$f":"Sun!D6+Sun!D7+Sun!D8","v":0.85},{"$f":"Sun!E6+Sun!E7+Sun!E8","v":0.85},{"$f":"Sun!F6+Sun!F7+Sun!F8","v":0.85},{"$f":"Sun!G6+Sun!G7+Sun!G8","v":0.85},{"$f":"Sun!H6+Sun!H7+Sun!H8","v":1.05},{"$f":"Sun!I6+Sun!I7+Sun!I8","v":1.05},{"$f":"Sun!J6+Sun!J7+Sun!J8","v":1.05},{"$f":"Sun!K6+Sun!K7+Sun!K8","v":{"v":0.8,"d":"0.80"}},{"$f":"Sun!L6+Sun!L7+Sun!L8","v":{"v":0.8,"d":"0.80"}},{"$f":"Sun!M6+Sun!M7+Sun!M8","v":{"v":0.8,"d":"0.80"}},{"$f":"Sun!N6+Sun!N7+Sun!N8","v":{"v":0.8,"d":"0.80"}},{"$f":"Sun!O6+Sun!O7+Sun!O8","v":{"v":0.8,"d":"0.80"}},{"$f":"Sun!P6+Sun!P7+Sun!P8","v":{"v":0.8,"d":"0.80"}},{"$f":"Sun!Q6+Sun!Q7+Sun!Q8","v":{"v":0.8,"d":"0.80"}},{"$f":"Sun!R6+Sun!R7+Sun!R8","v":{"v":0.9,"d":"0.90"}},{"$f":"Sun!S6+Sun!S7+Sun!S8","v":{"v":0.9,"d":"0.90"}},{"$f":"Sun!T6+Sun!T7+Sun!T8","v":{"v":0.9,"d":"0.90"}},{"$f":"Sun!U6+Sun!U7+Sun!U8","v":{"v":0.9,"d":"0.90"}},{"$f":"Sun!V6+Sun!V7+Sun!V8","v":{"v":0.9,"d":"0.90"}},{"$f":"Sun!W6+Sun!W7+Sun!W8","v":{"v":0.7,"d":"0.70"}},{"$f":"Sun!X6+Sun!X7+Sun!X8","v":{"v":0.7,"d":"0.70"}},{"$f":"Sun!Y6+Sun!Y7+Sun!Y8","v":{"v":0.7,"d":"0.70"}}]
[]
[null,"These cells keep totals of total daily insulin by hour for graphing, do not change contents"]